BEGIN:VCALENDAR
VERSION:2.0
PRODID:spatie/icalendar-generator
DESCRIPTION:Veranstaltungen von Chor Eintracht Rodheim 1863 e.V.
X-WR-CALDESC:Veranstaltungen von Chor Eintracht Rodheim 1863 e.V.
REFRESH-INTERVAL;VALUE=DURATION:PT1440M
X-PUBLISHED-TTL:PT1440M
BEGIN:VTIMEZONE
TZID:Europe/Berlin
BEGIN:DAYLIGHT
DTSTART:20240331T020000Z
TZOFFSETFROM:+0100
TZOFFSETTO:+0200
END:DAYLIGHT
BEGIN:STANDARD
DTSTART:20241027T030000Z
TZOFFSETFROM:+0200
TZOFFSETTO:+0100
END:STANDARD
BEGIN:DAYLIGHT
DTSTART:20250330T020000Z
TZOFFSETFROM:+0100
TZOFFSETTO:+0200
END:DAYLIGHT
END:VTIMEZONE
BEGIN:VTIMEZONE
TZID:UTC
BEGIN:STANDARD
DTSTART:20250727T172126Z
TZOFFSETFROM:+0000
TZOFFSETTO:+0000
END:STANDARD
END:VTIMEZONE
BEGIN:VEVENT
UID:55-9
DTSTAMP:20260423T172126Z
SUMMARY:Adventskonzert
LOCATION:ev. Kirche Rodheim Kirchgasse 5  Biebertal  35444
ORGANIZER;CN=Andre Kunz:MAILTO:andre@inet-kom.net
DTSTART;TZID=Europe/Berlin:20241201T153000
DTEND;TZID=Europe/Berlin:20241201T180000
X-ALT-DESC;FMTTYPE=TEXT/HTML:Mit unserem Adventskonzert wollen wir die besi
 nnliche Adventszeit beginnen. Mit weihnachtlichen Liedern gestalten wir ei
 nen kurzweiligen Nachmittag. Im Anschluss laden wir zu Plätzchen\, Punsch
  und Glühwein ein.
CATEGORIES:Konzert
URL;VALUE=URI:https://chor-eintracht-rodheim.de/mc-events/adventskonzert/
METHOD:PUBLISH
END:VEVENT
END:VCALENDAR