BEGIN:VCALENDAR
VERSION:2.0
PRODID:spatie/icalendar-generator
DESCRIPTION:Veranstaltungen von Chor Eintracht Rodheim 1863 e.V.
X-WR-CALDESC:Veranstaltungen von Chor Eintracht Rodheim 1863 e.V.
REFRESH-INTERVAL;VALUE=DURATION:PT1440M
X-PUBLISHED-TTL:PT1440M
BEGIN:VTIMEZONE
TZID:Europe/Berlin
BEGIN:DAYLIGHT
DTSTART:20240331T020000Z
TZOFFSETFROM:+0100
TZOFFSETTO:+0200
END:DAYLIGHT
BEGIN:STANDARD
DTSTART:20241027T030000Z
TZOFFSETFROM:+0200
TZOFFSETTO:+0100
END:STANDARD
BEGIN:DAYLIGHT
DTSTART:20250330T020000Z
TZOFFSETFROM:+0100
TZOFFSETTO:+0200
END:DAYLIGHT
END:VTIMEZONE
BEGIN:VTIMEZONE
TZID:UTC
BEGIN:STANDARD
DTSTART:20250726T214519Z
TZOFFSETFROM:+0000
TZOFFSETTO:+0000
END:STANDARD
END:VTIMEZONE
BEGIN:VEVENT
UID:53-7
DTSTAMP:20260422T214519Z
SUMMARY:Love is in the Air - Konzert in Hüttenberg-Rechtenbach
LOCATION:Bürgerhaus Rechtenbach Im Saales 2  Hüttenberg-Rechtenbach Hesse
 n 35625
ORGANIZER;CN=Andre Kunz:MAILTO:andre@inet-kom.net
DTSTART;TZID=Europe/Berlin:20240928T193000
DTEND;TZID=Europe/Berlin:20240928T223000
X-ALT-DESC;FMTTYPE=TEXT/HTML:Gerne folgen wir der Einladung unseres befreun
 deten Chores aus Hüttenberg-Rechtenbach zum Konzert unter dem Motto \"Lov
 e is in the Air\".
CATEGORIES:Konzert
URL;VALUE=URI:https://chor-eintracht-rodheim.de/mc-events/love-is-in-the-ai
 r-konzert-in-huettenberg-rechtenbach/
METHOD:PUBLISH
END:VEVENT
END:VCALENDAR