BEGIN:VCALENDAR
VERSION:2.0
PRODID:spatie/icalendar-generator
DESCRIPTION:Veranstaltungen von Chor Eintracht Rodheim 1863 e.V.
X-WR-CALDESC:Veranstaltungen von Chor Eintracht Rodheim 1863 e.V.
REFRESH-INTERVAL;VALUE=DURATION:PT1440M
X-PUBLISHED-TTL:PT1440M
BEGIN:VTIMEZONE
TZID:Europe/Berlin
BEGIN:DAYLIGHT
DTSTART:20240331T020000Z
TZOFFSETFROM:+0100
TZOFFSETTO:+0200
END:DAYLIGHT
BEGIN:STANDARD
DTSTART:20241027T030000Z
TZOFFSETFROM:+0200
TZOFFSETTO:+0100
END:STANDARD
END:VTIMEZONE
BEGIN:VTIMEZONE
TZID:UTC
BEGIN:STANDARD
DTSTART:20250726T023440Z
TZOFFSETFROM:+0000
TZOFFSETTO:+0000
END:STANDARD
END:VTIMEZONE
BEGIN:VEVENT
UID:52-6
DTSTAMP:20260422T023440Z
SUMMARY:Golden Oldies in Wettenberg
LOCATION:Golden Oldies Wettenberg-Krofdorf-Gleiberg Turnhallenstraße   Wet
 tenberg-Krofdorf-Gleiberg Hessen 35444
ORGANIZER;CN=Andre Kunz:MAILTO:andre@inet-kom.net
DTSTART;TZID=Europe/Berlin:20240727T130000
DTEND;TZID=Europe/Berlin:20240727T180000
X-ALT-DESC;FMTTYPE=TEXT/HTML:
CATEGORIES:Konzert
URL;VALUE=URI:https://chor-eintracht-rodheim.de/mc-events/golden-oldies-in-
 wettenberg/
METHOD:PUBLISH
END:VEVENT
END:VCALENDAR