BEGIN:VCALENDAR
VERSION:2.0
PRODID:spatie/icalendar-generator
DESCRIPTION:Veranstaltungen von Chor Eintracht Rodheim 1863 e.V.
X-WR-CALDESC:Veranstaltungen von Chor Eintracht Rodheim 1863 e.V.
REFRESH-INTERVAL;VALUE=DURATION:PT1440M
X-PUBLISHED-TTL:PT1440M
BEGIN:VTIMEZONE
TZID:Europe/Berlin
BEGIN:STANDARD
DTSTART:20231029T030000Z
TZOFFSETFROM:+0200
TZOFFSETTO:+0100
END:STANDARD
BEGIN:DAYLIGHT
DTSTART:20240331T020000Z
TZOFFSETFROM:+0100
TZOFFSETTO:+0200
END:DAYLIGHT
BEGIN:STANDARD
DTSTART:20241027T030000Z
TZOFFSETFROM:+0200
TZOFFSETTO:+0100
END:STANDARD
END:VTIMEZONE
BEGIN:VTIMEZONE
TZID:UTC
BEGIN:STANDARD
DTSTART:20250723T150952Z
TZOFFSETFROM:+0000
TZOFFSETTO:+0000
END:STANDARD
END:VTIMEZONE
BEGIN:VEVENT
UID:51-5
DTSTAMP:20260419T150952Z
SUMMARY:Musik im Park
LOCATION:Gail\\'scher Park Gleibergstraße 24  Biebertal Hessen 35444
ORGANIZER;CN=Andre Kunz:MAILTO:andre@inet-kom.net
DTSTART;TZID=Europe/Berlin:20240525T143000
DTEND;TZID=Europe/Berlin:20240525T180000
X-ALT-DESC;FMTTYPE=TEXT/HTML:Der Gesangverein Eintracht 1863 Rodheim-Bieber
  e.V. lädt befreundete Chöre aus der Region zu einem stimmungsvollen Nac
 hmittag im Gail'schen Park in Biebertal-Rodheim ein.
CATEGORIES:Konzert
URL;VALUE=URI:https://chor-eintracht-rodheim.de/mc-events/musik-im-park/
METHOD:PUBLISH
END:VEVENT
END:VCALENDAR