BEGIN:VCALENDAR
VERSION:2.0
PRODID:spatie/icalendar-generator
DESCRIPTION:Veranstaltungen von Chor Eintracht Rodheim 1863 e.V.
X-WR-CALDESC:Veranstaltungen von Chor Eintracht Rodheim 1863 e.V.
REFRESH-INTERVAL;VALUE=DURATION:PT1440M
X-PUBLISHED-TTL:PT1440M
BEGIN:VTIMEZONE
TZID:Europe/Berlin
BEGIN:DAYLIGHT
DTSTART:20240331T020000Z
TZOFFSETFROM:+0100
TZOFFSETTO:+0200
END:DAYLIGHT
BEGIN:STANDARD
DTSTART:20241027T030000Z
TZOFFSETFROM:+0200
TZOFFSETTO:+0100
END:STANDARD
BEGIN:DAYLIGHT
DTSTART:20250330T020000Z
TZOFFSETFROM:+0100
TZOFFSETTO:+0200
END:DAYLIGHT
END:VTIMEZONE
BEGIN:VTIMEZONE
TZID:UTC
BEGIN:STANDARD
DTSTART:20250727T205319Z
TZOFFSETFROM:+0000
TZOFFSETTO:+0000
END:STANDARD
END:VTIMEZONE
BEGIN:VEVENT
UID:56-10
DTSTAMP:20260423T205319Z
SUMMARY:Weihnachtsmarkt
LOCATION:Bürgerhaus Rodheim Mühlbergstraße 11  Biebertal Hessen 35444
ORGANIZER;CN=Andre Kunz:MAILTO:andre@inet-kom.net
DTSTART;TZID=Europe/Berlin:20241215T100000
DTEND;TZID=Europe/Berlin:20241215T180000
X-ALT-DESC;FMTTYPE=TEXT/HTML:Wir laden zu Kaffee und Kuchen mit musikalisch
 er Untermalung in das Bürgerhaus Rodheim in den kleinen Saal ein.
CATEGORIES:sonstiges
URL;VALUE=URI:https://chor-eintracht-rodheim.de/mc-events/weihnachtsmarkt/
METHOD:PUBLISH
END:VEVENT
END:VCALENDAR