BEGIN:VCALENDAR
VERSION:2.0
PRODID:spatie/icalendar-generator
DESCRIPTION:Veranstaltungen von Chor Eintracht Rodheim 1863 e.V.
X-WR-CALDESC:Veranstaltungen von Chor Eintracht Rodheim 1863 e.V.
REFRESH-INTERVAL;VALUE=DURATION:PT1440M
X-PUBLISHED-TTL:PT1440M
BEGIN:VTIMEZONE
TZID:Europe/Berlin
BEGIN:DAYLIGHT
DTSTART:20240331T020000Z
TZOFFSETFROM:+0100
TZOFFSETTO:+0200
END:DAYLIGHT
BEGIN:STANDARD
DTSTART:20241027T030000Z
TZOFFSETFROM:+0200
TZOFFSETTO:+0100
END:STANDARD
BEGIN:DAYLIGHT
DTSTART:20250330T020000Z
TZOFFSETFROM:+0100
TZOFFSETTO:+0200
END:DAYLIGHT
END:VTIMEZONE
BEGIN:VTIMEZONE
TZID:UTC
BEGIN:STANDARD
DTSTART:20250727T065403Z
TZOFFSETFROM:+0000
TZOFFSETTO:+0000
END:STANDARD
END:VTIMEZONE
BEGIN:VEVENT
UID:54-8
DTSTAMP:20260423T065403Z
SUMMARY:Jubiläumsfeier Dünsbergverein
LOCATION:Bürgerhaus Rodheim Mühlbergstraße 11  Biebertal Hessen 35444
ORGANIZER;CN=Andre Kunz:MAILTO:andre@inet-kom.net
DTSTART;TZID=Europe/Berlin:20241101T180000
DTEND;TZID=Europe/Berlin:20241101T223000
X-ALT-DESC;FMTTYPE=TEXT/HTML:
CATEGORIES:sonstiges
URL;VALUE=URI:https://chor-eintracht-rodheim.de/mc-events/jubilaeumsfeier-d
 uensbergverein/
METHOD:PUBLISH
END:VEVENT
END:VCALENDAR