BEGIN:VCALENDAR
VERSION:2.0
PRODID:spatie/icalendar-generator
DESCRIPTION:Veranstaltungen von Chor Eintracht Rodheim 1863 e.V.
X-WR-CALDESC:Veranstaltungen von Chor Eintracht Rodheim 1863 e.V.
REFRESH-INTERVAL;VALUE=DURATION:PT1440M
X-PUBLISHED-TTL:PT1440M
BEGIN:VTIMEZONE
TZID:Europe/Berlin
BEGIN:DAYLIGHT
DTSTART:20260329T020000Z
TZOFFSETFROM:+0100
TZOFFSETTO:+0200
END:DAYLIGHT
BEGIN:STANDARD
DTSTART:20261025T030000Z
TZOFFSETFROM:+0200
TZOFFSETTO:+0100
END:STANDARD
BEGIN:DAYLIGHT
DTSTART:20270328T020000Z
TZOFFSETFROM:+0100
TZOFFSETTO:+0200
END:DAYLIGHT
END:VTIMEZONE
BEGIN:VTIMEZONE
TZID:UTC
BEGIN:STANDARD
DTSTART:20250724T043819Z
TZOFFSETFROM:+0000
TZOFFSETTO:+0000
END:STANDARD
END:VTIMEZONE
BEGIN:VEVENT
UID:131-15
DTSTAMP:20260420T043819Z
SUMMARY:Adventskonzert
LOCATION:ev. Kirche Rodheim Kirchgasse 5  Biebertal  35444
ORGANIZER;CN=Céline Kunz:MAILTO:celine.kunz@inet-kom.net
DTSTART;TZID=Europe/Berlin:20261206T143000
DTEND;TZID=Europe/Berlin:20261206T153000
X-ALT-DESC;FMTTYPE=TEXT/HTML:Unser jährliches Adventskonzert in der ev. Ki
 rche in Rodheim. Der Eintritt ist frei - Spenden immer gern gesehen \;) Im
  Anschluss gibt es vor dem evangelischen Gemeindehaus Glühwein\, Bratwür
 stchen und Crêpes. Wir freuen uns auf euer kommen!
CATEGORIES:Konzert
URL;VALUE=URI:https://chor-eintracht-rodheim.de/mc-events/adventskonzert-2/
METHOD:PUBLISH
END:VEVENT
END:VCALENDAR